<VRTDataset rasterXSize="1020080" rasterYSize="1180080">
  <SRS dataAxisToSRSAxisMapping="1,2">PROJCS["NAD83 / UTM zone 11N",GEOGCS["NAD83",DATUM["North_American_Datum_1983",SPHEROID["GRS 1980",6378137,298.257222101,AUTHORITY["EPSG","7019"]],AUTHORITY["EPSG","6269"]],PRIMEM["Greenwich",0,AUTHORITY["EPSG","8901"]],UNIT["degree",0.0174532925199433,AUTHORITY["EPSG","9122"]],AUTHORITY["EPSG","4269"]],PROJECTION["Transverse_Mercator"],PARAMETER["latitude_of_origin",0],PARAMETER["central_meridian",-117],PARAMETER["scale_factor",0.9996],PARAMETER["false_easting",500000],PARAMETER["false_northing",0],UNIT["metre",1,AUTHORITY["EPSG","9001"]],AXIS["Easting",EAST],AXIS["Northing",NORTH],AUTHORITY["EPSG","26911"]]</SRS>
  <GeoTransform>477000.0, 0.15, 0.0, 5793000.0, 0.0, -0.15</GeoTransform>
  <VRTRasterBand dataType="Byte" band="1">
    <ColorInterp>Red</ColorInterp>
    <ComplexSource>
      <SourceFilename relativeToVRT="0">/vsicurl/https://aerial-imagery-canada.s3.ca-central-1.amazonaws.com/national-parks/banff-national-park/Banff-national-park-2025-15cm-RGBN-mosaic.tif</SourceFilename>
      <SourceBand>1</SourceBand>
      <SourceProperties RasterXSize="1020080" RasterYSize="1180080" DataType="Byte" BlockXSize="512" BlockYSize="512" />
      <SrcRect xOff="0" yOff="0" xSize="1020080" ySize="1180080" />
      <DstRect xOff="0" yOff="0" xSize="1020080" ySize="1180080" />
      <UseMaskBand>true</UseMaskBand>
    </ComplexSource>
  </VRTRasterBand>
  <VRTRasterBand dataType="Byte" band="2">
    <ColorInterp>Green</ColorInterp>
    <ComplexSource>
      <SourceFilename relativeToVRT="0">/vsicurl/https://aerial-imagery-canada.s3.ca-central-1.amazonaws.com/national-parks/banff-national-park/Banff-national-park-2025-15cm-RGBN-mosaic.tif</SourceFilename>
      <SourceBand>2</SourceBand>
      <SourceProperties RasterXSize="1020080" RasterYSize="1180080" DataType="Byte" BlockXSize="512" BlockYSize="512" />
      <SrcRect xOff="0" yOff="0" xSize="1020080" ySize="1180080" />
      <DstRect xOff="0" yOff="0" xSize="1020080" ySize="1180080" />
      <UseMaskBand>true</UseMaskBand>
    </ComplexSource>
  </VRTRasterBand>
  <VRTRasterBand dataType="Byte" band="3">
    <ColorInterp>Blue</ColorInterp>
    <ComplexSource>
      <SourceFilename relativeToVRT="0">/vsicurl/https://aerial-imagery-canada.s3.ca-central-1.amazonaws.com/national-parks/banff-national-park/Banff-national-park-2025-15cm-RGBN-mosaic.tif</SourceFilename>
      <SourceBand>3</SourceBand>
      <SourceProperties RasterXSize="1020080" RasterYSize="1180080" DataType="Byte" BlockXSize="512" BlockYSize="512" />
      <SrcRect xOff="0" yOff="0" xSize="1020080" ySize="1180080" />
      <DstRect xOff="0" yOff="0" xSize="1020080" ySize="1180080" />
      <UseMaskBand>true</UseMaskBand>
    </ComplexSource>
  </VRTRasterBand>
  <VRTRasterBand dataType="Byte" band="4">
    <ComplexSource>
      <SourceFilename relativeToVRT="0">/vsicurl/https://aerial-imagery-canada.s3.ca-central-1.amazonaws.com/national-parks/banff-national-park/Banff-national-park-2025-15cm-RGBN-mosaic.tif</SourceFilename>
      <SourceBand>4</SourceBand>
      <SourceProperties RasterXSize="1020080" RasterYSize="1180080" DataType="Byte" BlockXSize="512" BlockYSize="512" />
      <SrcRect xOff="0" yOff="0" xSize="1020080" ySize="1180080" />
      <DstRect xOff="0" yOff="0" xSize="1020080" ySize="1180080" />
      <UseMaskBand>true</UseMaskBand>
    </ComplexSource>
  </VRTRasterBand>
  <MaskBand>
    <VRTRasterBand dataType="Byte">
      <ComplexSource>
        <SourceFilename relativeToVRT="0">/vsicurl/https://aerial-imagery-canada.s3.ca-central-1.amazonaws.com/national-parks/banff-national-park/Banff-national-park-2025-15cm-RGBN-mosaic.tif</SourceFilename>
        <SourceBand>mask,1</SourceBand>
        <SourceProperties RasterXSize="1020080" RasterYSize="1180080" DataType="Byte" BlockXSize="512" BlockYSize="512" />
        <SrcRect xOff="0" yOff="0" xSize="1020080" ySize="1180080" />
        <DstRect xOff="0" yOff="0" xSize="1020080" ySize="1180080" />
        <UseMaskBand>true</UseMaskBand>
      </ComplexSource>
    </VRTRasterBand>
  </MaskBand>
</VRTDataset>
